BEGIN:VCALENDAR
VERSION:2.0
PRODID:-//MAG Airsoft Idaho - ECPv6.15.20//NONSGML v1.0//EN
CALSCALE:GREGORIAN
METHOD:PUBLISH
X-WR-CALNAME:MAG Airsoft Idaho
X-ORIGINAL-URL:https://magairsoft.com
X-WR-CALDESC:Events for MAG Airsoft Idaho
REFRESH-INTERVAL;VALUE=DURATION:PT1H
X-Robots-Tag:noindex
X-PUBLISHED-TTL:PT1H
BEGIN:VTIMEZONE
TZID:America/Denver
BEGIN:DAYLIGHT
TZOFFSETFROM:-0700
TZOFFSETTO:-0600
TZNAME:MDT
DTSTART:20250309T090000
END:DAYLIGHT
BEGIN:STANDARD
TZOFFSETFROM:-0600
TZOFFSETTO:-0700
TZNAME:MST
DTSTART:20251102T080000
END:STANDARD
BEGIN:DAYLIGHT
TZOFFSETFROM:-0700
TZOFFSETTO:-0600
TZNAME:MDT
DTSTART:20260308T090000
END:DAYLIGHT
BEGIN:STANDARD
TZOFFSETFROM:-0600
TZOFFSETTO:-0700
TZNAME:MST
DTSTART:20261101T080000
END:STANDARD
BEGIN:DAYLIGHT
TZOFFSETFROM:-0700
TZOFFSETTO:-0600
TZNAME:MDT
DTSTART:20270314T090000
END:DAYLIGHT
BEGIN:STANDARD
TZOFFSETFROM:-0600
TZOFFSETTO:-0700
TZNAME:MST
DTSTART:20271107T080000
END:STANDARD
END:VTIMEZONE
BEGIN:VEVENT
DTSTART;TZID=America/Denver:20260314T070000
DTEND;TZID=America/Denver:20260314T130000
DTSTAMP:20260423T102804
CREATED:20260312T223314Z
LAST-MODIFIED:20260312T223314Z
UID:3920-1773471600-1773493200@magairsoft.com
SUMMARY:3/14/26 location: Cobblestone
DESCRIPTION:Map: Cobblestone \nGate open: 7:00 \nChrono Start: 7:30 \nChrono close/ gate close: 9:15 \nSafety brief: 9:30 \nGame start: 10:00 \nNATO has found out that UN “Peacekeepers” have been caught making deals with Russia and have been executing war prisoners and civilians in the war with Ukraine they have been deemed Traitors and must be dealt with \nNATO side: must capture or kill rouge UN Peacekeeprs and prevent Russia from getting NATO intel \nRusfor side: Must extract UN peacekeepers\, obtain NATO intel\, and resupply  \nUN Hitsquad: A 4-5 man team randomly placed on the map trying to avoid capture they have limited resources and only have cqb weapons and limited revives(1 MSW tq per person)
URL:https://magairsoft.com/event/3-14-26-location-cobblestone/
LOCATION:Emmett\, 43.928099\, -116.442145
ATTACH;FMTTYPE=image/jpeg:https://magairsoft.com/wp-content/uploads/2019/02/emmett.jpg
END:VEVENT
END:VCALENDAR