BEGIN:VCALENDAR
VERSION:2.0
PRODID:-//MAG Airsoft Idaho - ECPv6.15.20//NONSGML v1.0//EN
CALSCALE:GREGORIAN
METHOD:PUBLISH
X-WR-CALNAME:MAG Airsoft Idaho
X-ORIGINAL-URL:https://magairsoft.com
X-WR-CALDESC:Events for MAG Airsoft Idaho
REFRESH-INTERVAL;VALUE=DURATION:PT1H
X-Robots-Tag:noindex
X-PUBLISHED-TTL:PT1H
BEGIN:VTIMEZONE
TZID:America/Denver
BEGIN:DAYLIGHT
TZOFFSETFROM:-0700
TZOFFSETTO:-0600
TZNAME:MDT
DTSTART:20250309T090000
END:DAYLIGHT
BEGIN:STANDARD
TZOFFSETFROM:-0600
TZOFFSETTO:-0700
TZNAME:MST
DTSTART:20251102T080000
END:STANDARD
BEGIN:DAYLIGHT
TZOFFSETFROM:-0700
TZOFFSETTO:-0600
TZNAME:MDT
DTSTART:20260308T090000
END:DAYLIGHT
BEGIN:STANDARD
TZOFFSETFROM:-0600
TZOFFSETTO:-0700
TZNAME:MST
DTSTART:20261101T080000
END:STANDARD
BEGIN:DAYLIGHT
TZOFFSETFROM:-0700
TZOFFSETTO:-0600
TZNAME:MDT
DTSTART:20270314T090000
END:DAYLIGHT
BEGIN:STANDARD
TZOFFSETFROM:-0600
TZOFFSETTO:-0700
TZNAME:MST
DTSTART:20271107T080000
END:STANDARD
END:VTIMEZONE
BEGIN:VEVENT
DTSTART;TZID=America/Denver:20260328T080000
DTEND;TZID=America/Denver:20260328T130000
DTSTAMP:20260423T102708
CREATED:20260325T162047Z
LAST-MODIFIED:20260327T022212Z
UID:3984-1774684800-1774702800@magairsoft.com
SUMMARY:3/28/26 King of The Hill @ Cobblestone
DESCRIPTION:Hello! This week\, Hit Squad brings you…\nKing of the hill @ Cobblestone \nLocation:  \nTimeline:\nGates open 8:00\nChrono open 9:00\nChrono close 9:45\nSafety brief 9:50\nGame starts at 10:00 \nGame mode:\nKOTH \nGame rules:\nDefending team will start on field and dig in and hold until the time limit. The opposing team will attack the hill until the defenders are either wiped out or loose control of the flag.\nIn the event of the hill being lost or time running out points will be distributed and teams will swap sides. \nMedic & Respawn:\nDesignated medics.\n3 man\, min.\nDefenders limited to 3 lives per round. \nPlease remember to bring your dead rags as they are required.
URL:https://magairsoft.com/event/3-28-26-king-of-the-hill-grimes-creek/
LOCATION:Emmett\, 43.928099\, -116.442145
ATTACH;FMTTYPE=image/jpeg:https://magairsoft.com/wp-content/uploads/2019/02/emmett.jpg
END:VEVENT
END:VCALENDAR