BEGIN:VCALENDAR
VERSION:2.0
PRODID:-//MAG Airsoft Idaho - ECPv6.15.20//NONSGML v1.0//EN
CALSCALE:GREGORIAN
METHOD:PUBLISH
X-ORIGINAL-URL:https://magairsoft.com
X-WR-CALDESC:Events for MAG Airsoft Idaho
REFRESH-INTERVAL;VALUE=DURATION:PT1H
X-Robots-Tag:noindex
X-PUBLISHED-TTL:PT1H
BEGIN:VTIMEZONE
TZID:America/Denver
BEGIN:DAYLIGHT
TZOFFSETFROM:-0700
TZOFFSETTO:-0600
TZNAME:MDT
DTSTART:20250309T090000
END:DAYLIGHT
BEGIN:STANDARD
TZOFFSETFROM:-0600
TZOFFSETTO:-0700
TZNAME:MST
DTSTART:20251102T080000
END:STANDARD
BEGIN:DAYLIGHT
TZOFFSETFROM:-0700
TZOFFSETTO:-0600
TZNAME:MDT
DTSTART:20260308T090000
END:DAYLIGHT
BEGIN:STANDARD
TZOFFSETFROM:-0600
TZOFFSETTO:-0700
TZNAME:MST
DTSTART:20261101T080000
END:STANDARD
BEGIN:DAYLIGHT
TZOFFSETFROM:-0700
TZOFFSETTO:-0600
TZNAME:MDT
DTSTART:20270314T090000
END:DAYLIGHT
BEGIN:STANDARD
TZOFFSETFROM:-0600
TZOFFSETTO:-0700
TZNAME:MST
DTSTART:20271107T080000
END:STANDARD
END:VTIMEZONE
BEGIN:VEVENT
DTSTART;TZID=America/Denver:20260404T080000
DTEND;TZID=America/Denver:20260404T123000
DTSTAMP:20260423T084650
CREATED:20260330T191045Z
LAST-MODIFIED:20260330T191045Z
UID:4101-1775289600-1775305800@magairsoft.com
SUMMARY:04.04.26 Return to Bear Run
DESCRIPTION:Location: Idaho City / Bear Run Road \nDirections: https://maps.app.goo.gl/tVF458wMY3qSVRx58 \nSchedule:\nGates open — 0800\nChrono open — 0830\nChrono closes — 0920\nSafety brief — 0930\nGame starts promptly — 1000\nENDEX — 1230 \nA new field? Well\, not exactly. We just haven’t played Bear Run in many years. \nI’ll be hosting 5 Flag Grab at Bear Run as an experiment to see whether this field should go back into more regular rotation. Please keep in mind that flexibility may be important\, as there is a high chance of campers and ATV riders in the area. \nPlease use the image below as a guide for parking. This field can essentially be unlimited in size\, but as shown in the diagram\, the playable area is roughly double the size of Cobblestone. \nCome out and enjoy!
URL:https://magairsoft.com/event/04-04-26-return-to-bear-run/
LOCATION:Idaho City – Bear Run\, 43°51'21.4"N 115°48'11.5"W
ATTACH;FMTTYPE=image/jpeg:https://magairsoft.com/wp-content/uploads/2019/02/idahocity.jpg
END:VEVENT
END:VCALENDAR