BEGIN:VCALENDAR
VERSION:2.0
PRODID:-//MAG Airsoft Idaho - ECPv6.15.20//NONSGML v1.0//EN
CALSCALE:GREGORIAN
METHOD:PUBLISH
X-ORIGINAL-URL:https://magairsoft.com
X-WR-CALDESC:Events for MAG Airsoft Idaho
REFRESH-INTERVAL;VALUE=DURATION:PT1H
X-Robots-Tag:noindex
X-PUBLISHED-TTL:PT1H
BEGIN:VTIMEZONE
TZID:America/Denver
BEGIN:DAYLIGHT
TZOFFSETFROM:-0700
TZOFFSETTO:-0600
TZNAME:MDT
DTSTART:20250309T090000
END:DAYLIGHT
BEGIN:STANDARD
TZOFFSETFROM:-0600
TZOFFSETTO:-0700
TZNAME:MST
DTSTART:20251102T080000
END:STANDARD
BEGIN:DAYLIGHT
TZOFFSETFROM:-0700
TZOFFSETTO:-0600
TZNAME:MDT
DTSTART:20260308T090000
END:DAYLIGHT
BEGIN:STANDARD
TZOFFSETFROM:-0600
TZOFFSETTO:-0700
TZNAME:MST
DTSTART:20261101T080000
END:STANDARD
BEGIN:DAYLIGHT
TZOFFSETFROM:-0700
TZOFFSETTO:-0600
TZNAME:MDT
DTSTART:20270314T090000
END:DAYLIGHT
BEGIN:STANDARD
TZOFFSETFROM:-0600
TZOFFSETTO:-0700
TZNAME:MST
DTSTART:20271107T080000
END:STANDARD
END:VTIMEZONE
BEGIN:VEVENT
DTSTART;TZID=America/Denver:20260411T080000
DTEND;TZID=America/Denver:20260411T123000
DTSTAMP:20260423T084711
CREATED:20260408T152712Z
LAST-MODIFIED:20260408T152712Z
UID:4211-1775894400-1775910600@magairsoft.com
SUMMARY:4/11/26 Village Downed Pilot
DESCRIPTION:Location: Village\n$10 entry fee\nPlease DM Council Member on Discord for directions  \nGates open 8:00\nChrono open 9:00\nChrono close 9:45\nSafety brief 9:50\nGame starts at 10:00 \nMedic rules standard 10 sec touch\nTouch and Go Respawn  \nGame scenario \nAmerican Aircraft have been shot down in the area. The US Team (blue) must locate and rescue their pilots. The Chinese PLA (Yellow) have also moved into the area and are trying to capture the American pilots. The pilots will be represented by a dummy that must be carried. The team that gets the dummy back to their spawn the most amount of times will win the game. The dummy will be randomly located around the area. \nEach team will have an appointed team leaders to coordinate the rescue/capture efforts. (Both arms will have arm bands)
URL:https://magairsoft.com/event/4-11-26-village-downed-pilot/
ATTACH;FMTTYPE=image/jpeg:https://magairsoft.com/wp-content/uploads/2019/02/junkyard.jpg
END:VEVENT
END:VCALENDAR