BEGIN:VCALENDAR
VERSION:2.0
PRODID:-//MAG Airsoft Idaho - ECPv6.15.20//NONSGML v1.0//EN
CALSCALE:GREGORIAN
METHOD:PUBLISH
X-WR-CALNAME:MAG Airsoft Idaho
X-ORIGINAL-URL:https://magairsoft.com
X-WR-CALDESC:Events for MAG Airsoft Idaho
REFRESH-INTERVAL;VALUE=DURATION:PT1H
X-Robots-Tag:noindex
X-PUBLISHED-TTL:PT1H
BEGIN:VTIMEZONE
TZID:America/Denver
BEGIN:DAYLIGHT
TZOFFSETFROM:-0700
TZOFFSETTO:-0600
TZNAME:MDT
DTSTART:20250309T090000
END:DAYLIGHT
BEGIN:STANDARD
TZOFFSETFROM:-0600
TZOFFSETTO:-0700
TZNAME:MST
DTSTART:20251102T080000
END:STANDARD
BEGIN:DAYLIGHT
TZOFFSETFROM:-0700
TZOFFSETTO:-0600
TZNAME:MDT
DTSTART:20260308T090000
END:DAYLIGHT
BEGIN:STANDARD
TZOFFSETFROM:-0600
TZOFFSETTO:-0700
TZNAME:MST
DTSTART:20261101T080000
END:STANDARD
BEGIN:DAYLIGHT
TZOFFSETFROM:-0700
TZOFFSETTO:-0600
TZNAME:MDT
DTSTART:20270314T090000
END:DAYLIGHT
BEGIN:STANDARD
TZOFFSETFROM:-0600
TZOFFSETTO:-0700
TZNAME:MST
DTSTART:20271107T080000
END:STANDARD
END:VTIMEZONE
BEGIN:VEVENT
DTSTART;TZID=America/Denver:20260307T080000
DTEND;TZID=America/Denver:20260307T123000
DTSTAMP:20260423T171655
CREATED:20260302T225823Z
LAST-MODIFIED:20260302T225823Z
UID:3861-1772870400-1772886600@magairsoft.com
SUMMARY:03.07.26 Cobblestone CTF
DESCRIPTION:Location: Cobblestone\nGates open: 0800\nChrono open: 0900\nChrono close: 0945\nGates close: 0955\nSafety brief: 1000\nGame start 1015\nGame end 1230 \nI will have the flags and the timers ready to go along with some nice surprises as well.
URL:https://magairsoft.com/event/03-07-26-cobblestone-ctf/
LOCATION:Emmett\, 43.928099\, -116.442145
ATTACH;FMTTYPE=image/jpeg:https://magairsoft.com/wp-content/uploads/2019/02/emmett.jpg
END:VEVENT
BEGIN:VEVENT
DTSTART;TZID=America/Denver:20260228T080000
DTEND;TZID=America/Denver:20260228T130000
DTSTAMP:20260423T171655
CREATED:20260226T233930Z
LAST-MODIFIED:20260226T233930Z
UID:3852-1772265600-1772283600@magairsoft.com
SUMMARY:02/28/26 CTF @ Swan Falls
DESCRIPTION:Timeline:\nChrono open @ 09:00\nChrono close @ 10:30\nGame/ Safety brief @ 10:45\nGame start @ 11:00\nGame end @ 13:00 \nGame mode: Capture the Flag \nTwo teams will fight to get the flag\, somewhere around the map. Most captures wins!! \nObjective: Thievery\nRespawn: 3 man or 3 minute \nMedic rules: 10 second touch\, 1 heal per life.
URL:https://magairsoft.com/event/02-28-26-ctf-swan-falls/
LOCATION:Swan Falls
ATTACH;FMTTYPE=image/jpeg:https://magairsoft.com/wp-content/uploads/2019/02/swan.jpg
END:VEVENT
BEGIN:VEVENT
DTSTART;TZID=America/Denver:20260207T090000
DTEND;TZID=America/Denver:20260207T123000
DTSTAMP:20260423T171655
CREATED:20260203T010116Z
LAST-MODIFIED:20260203T010116Z
UID:3748-1770454800-1770467400@magairsoft.com
SUMMARY:02.07.26 Cobblestone
DESCRIPTION:Chrono open: 09:00\nChrono close: 09:50\nSafety briefing: 10:00\nGame start: 10:30\nGame end: 12:30 \nHey everyone! We will be running our three flag game that we tried last month due to overwhelmingly positive feedback.
URL:https://magairsoft.com/event/02-07-26-cobblestone/
LOCATION:Emmett\, 43.928099\, -116.442145
ATTACH;FMTTYPE=image/jpeg:https://magairsoft.com/wp-content/uploads/2019/02/emmett.jpg
END:VEVENT
END:VCALENDAR