BEGIN:VCALENDAR
VERSION:2.0
PRODID:-//MAG Airsoft Idaho - ECPv6.15.20//NONSGML v1.0//EN
CALSCALE:GREGORIAN
METHOD:PUBLISH
X-ORIGINAL-URL:https://magairsoft.com
X-WR-CALDESC:Events for MAG Airsoft Idaho
REFRESH-INTERVAL;VALUE=DURATION:PT1H
X-Robots-Tag:noindex
X-PUBLISHED-TTL:PT1H
BEGIN:VTIMEZONE
TZID:America/Denver
BEGIN:DAYLIGHT
TZOFFSETFROM:-0700
TZOFFSETTO:-0600
TZNAME:MDT
DTSTART:20250309T090000
END:DAYLIGHT
BEGIN:STANDARD
TZOFFSETFROM:-0600
TZOFFSETTO:-0700
TZNAME:MST
DTSTART:20251102T080000
END:STANDARD
BEGIN:DAYLIGHT
TZOFFSETFROM:-0700
TZOFFSETTO:-0600
TZNAME:MDT
DTSTART:20260308T090000
END:DAYLIGHT
BEGIN:STANDARD
TZOFFSETFROM:-0600
TZOFFSETTO:-0700
TZNAME:MST
DTSTART:20261101T080000
END:STANDARD
BEGIN:DAYLIGHT
TZOFFSETFROM:-0700
TZOFFSETTO:-0600
TZNAME:MDT
DTSTART:20270314T090000
END:DAYLIGHT
BEGIN:STANDARD
TZOFFSETFROM:-0600
TZOFFSETTO:-0700
TZNAME:MST
DTSTART:20271107T080000
END:STANDARD
END:VTIMEZONE
BEGIN:VEVENT
DTSTART;TZID=America/Denver:20260425T080000
DTEND;TZID=America/Denver:20260425T123000
DTSTAMP:20260423T113301
CREATED:20260416T025645Z
LAST-MODIFIED:20260416T025645Z
UID:4275-1777104000-1777120200@magairsoft.com
SUMMARY:04/25/26 Caches & Commanders
DESCRIPTION:Game Mode: Caches and Commanders \nLocation: High Valley \nTimeline:\nGates open 8:00\nChrono open 9:00\nChrono close 10:00\nSafety brief 10:10\nGame starts at 10:30\nNo buddy medic\nRespawn: 3 man/3 minutes  \nAttackers attempt to unlock 3 hidden caches by finding their corresponding codes across the AO.  \nAttackers roles:\ncommander – the only one able to use the codes to unlock the caches and also able to relocate mobile respawn point \nSquad leads – the only ones able to photograph/write down the codes and send them to the commander \nAttacking team gets a point for each cache unlocked \nDefending team gets a point for killing the commander – the location of which will be frequently given by UAV (game control) \nMobile respawn timer is 3 minute within 10 feet.  If shot while at mobile respawn you must go back to main spawn AND CARRY MOBILE RESPAWN WITH YOU. \nNo buddy medic system this game\, main spawn is 3 minute or 3 man. \nFirst to three wins and then switch sides \nGame mode credits: Briar & Pampers
URL:https://magairsoft.com/event/04-25-26-caches-commanders/
LOCATION:High Valley
ATTACH;FMTTYPE=image/jpeg:https://magairsoft.com/wp-content/uploads/2019/02/50936403_1985271244922385_783565011619414016_n.jpg
END:VEVENT
BEGIN:VEVENT
DTSTART;TZID=America/Denver:20260502T080000
DTEND;TZID=America/Denver:20260502T150000
DTSTAMP:20260423T113301
CREATED:20260321T223624Z
LAST-MODIFIED:20260321T223624Z
UID:3969-1777708800-1777734000@magairsoft.com
SUMMARY:MAG Spring Kickoff/Swap Meet
DESCRIPTION:Join us for our first annual MAG Spring Kickoff and Swap Meet! \nWe will have several small events throughout the day along with a swap meet and a place to meet with our MAG community teams who are recruiting.  \nWe have reserved the entire Cobblestone Park area so get ready for a great day!
URL:https://magairsoft.com/event/mag-spring-kickoff-swap-meet/
LOCATION:Emmett\, 43.928099\, -116.442145
ATTACH;FMTTYPE=image/png:https://magairsoft.com/wp-content/uploads/2026/03/ChatGPT-Image-Mar-21-2026-04_34_00-PM.png
END:VEVENT
END:VCALENDAR